BEGIN:VCALENDAR
VERSION:2.0
PRODID:-//Adult Education - ECPv6.15.20//NONSGML v1.0//EN
CALSCALE:GREGORIAN
METHOD:PUBLISH
X-ORIGINAL-URL:https://adultlearningcenter.helenaschools.org
X-WR-CALDESC:Events for Adult Education
REFRESH-INTERVAL;VALUE=DURATION:PT1H
X-Robots-Tag:noindex
X-PUBLISHED-TTL:PT1H
BEGIN:VTIMEZONE
TZID:America/Denver
BEGIN:DAYLIGHT
TZOFFSETFROM:-0700
TZOFFSETTO:-0600
TZNAME:MDT
DTSTART:20230312T090000
END:DAYLIGHT
BEGIN:STANDARD
TZOFFSETFROM:-0600
TZOFFSETTO:-0700
TZNAME:MST
DTSTART:20231105T080000
END:STANDARD
BEGIN:DAYLIGHT
TZOFFSETFROM:-0700
TZOFFSETTO:-0600
TZNAME:MDT
DTSTART:20240310T090000
END:DAYLIGHT
BEGIN:STANDARD
TZOFFSETFROM:-0600
TZOFFSETTO:-0700
TZNAME:MST
DTSTART:20241103T080000
END:STANDARD
BEGIN:DAYLIGHT
TZOFFSETFROM:-0700
TZOFFSETTO:-0600
TZNAME:MDT
DTSTART:20250309T090000
END:DAYLIGHT
BEGIN:STANDARD
TZOFFSETFROM:-0600
TZOFFSETTO:-0700
TZNAME:MST
DTSTART:20251102T080000
END:STANDARD
END:VTIMEZONE
BEGIN:VEVENT
DTSTART;TZID=America/Denver:20240423T153000
DTEND;TZID=America/Denver:20240423T170000
DTSTAMP:20260421T201212
CREATED:20240404T162800Z
LAST-MODIFIED:20240423T031955Z
UID:23593-1713886200-1713891600@adultlearningcenter.helenaschools.org
SUMMARY:Board of Trustees Work Session At Hawthorne Elementary 4.23.24
DESCRIPTION:
URL:https://adultlearningcenter.helenaschools.org/event/board-of-trustees-work-session-at-hawthorne-elementary-4-23-24/
LOCATION:Hawthorne Elementary\, 430 Madison Ave\, Helena\, MT\, 59601\, United States
CATEGORIES:Board of Trustees Meeting,District Schedule,Work Session
ORGANIZER;CN="Board of Trustees":MAILTO:boardoftrustees@helenaschools.org
END:VEVENT
BEGIN:VEVENT
DTSTART;TZID=America/Denver:20240424T090000
DTEND;TZID=America/Denver:20240424T130000
DTSTAMP:20260421T201212
CREATED:20230811T170739Z
LAST-MODIFIED:20230811T170739Z
UID:23550-1713949200-1713963600@adultlearningcenter.helenaschools.org
SUMMARY:TABE Testing
DESCRIPTION:You must register with the main office for this test.  Please call 406-447-6387 to schedule your test date. Thank you!
URL:https://adultlearningcenter.helenaschools.org/event/tabe-testing/2024-04-24/
LOCATION:Helena Adult Learning Center – 1115 N Roberts Ave\, 1115 N Roberts Ave\, Helena\, MT\, 59601\, United States
CATEGORIES:Adult Learning Center,Testing Dates
END:VEVENT
BEGIN:VEVENT
DTSTART;TZID=America/Denver:20240425T154500
DTEND;TZID=America/Denver:20240425T171500
DTSTAMP:20260421T201212
CREATED:20240420T024414Z
LAST-MODIFIED:20240425T043433Z
UID:23611-1714059900-1714065300@adultlearningcenter.helenaschools.org
SUMMARY:4.25.24 Health Benefits Committee Meeting
DESCRIPTION:
URL:https://adultlearningcenter.helenaschools.org/event/4-25-24-health-benefits-committee-meeting/
LOCATION:Lincoln Center\, 1325 Poplar St\, Helena\, MT\, 59601\, United States
CATEGORIES:District Schedule,Health & Benefits Committee Meetings
END:VEVENT
END:VCALENDAR